BEGIN:VCALENDAR
VERSION:2.0
PRODID:-//wp-events-plugin.com//6.6.4.4//EN
TZID:Europe/Budapest
X-WR-TIMEZONE:Europe/Budapest
BEGIN:VEVENT
UID:16081@femforgacs.hu
DTSTART;TZID=Europe/Budapest:20260430T190000
DTEND;TZID=Europe/Budapest:20260430T190000
DTSTAMP:20260228T111556Z
URL:https://femforgacs.hu/events/speed-black-thrash-attack/
SUMMARY:Speed Black Thrash Attack
DESCRIPTION:Speed Black Thrash Attack\n2026. április 30.\, csütrötök\nB
 udapest\, Riff\nFellépők: Asedio\, Concrete\, Closure\, Mészárlás\n\n
 Jegyár: 4.000\,- Ft (csak a helyszínen kapható)
ATTACH;FMTTYPE=image/jpeg:https://storage.googleapis.com/femforgacs-wp/202
 6/02/a220207b-0010.jpg
CATEGORIES:Klubkoncert
LOCATION:Riff\, Szent István krt. 2.\, Budapest\, Pest megye\, 1137\, Pest
  megye\, Magyarország
GEO:47.5086;19.0624
X-APPLE-STRUCTURED-LOCATION;VALUE=URI;X-ADDRESS=Szent István krt. 2.\, Bud
 apest\, Pest megye\, 1137\, Pest megye\, Magyarország;X-APPLE-RADIUS=100;
 X-TITLE=Riff:geo:47.5086,19.0624
END:VEVENT
BEGIN:VTIMEZONE
TZID:Europe/Budapest
X-LIC-LOCATION:Europe/Budapest
BEGIN:DAYLIGHT
DTSTART:20260329T030000
TZOFFSETFROM:+0100
TZOFFSETTO:+0200
TZNAME:CEST
END:DAYLIGHT
END:VTIMEZONE
END:VCALENDAR