BEGIN:VCALENDAR
VERSION:2.0
PRODID:-//wp-events-plugin.com//6.6.4.4//EN
TZID:Europe/Budapest
X-WR-TIMEZONE:Europe/Budapest
BEGIN:VEVENT
UID:16047@femforgacs.hu
DTSTART;TZID=Europe/Budapest:20260707T190000
DTEND;TZID=Europe/Budapest:20260707T190000
DTSTAMP:20260213T111409Z
URL:https://femforgacs.hu/events/starbenders/
SUMMARY:Starbenders
DESCRIPTION:A Live Nation Magyarország bemutatja:\n2026. július 7.\, kedd
 \nBudapest\, Dürer Kert\nFellép: Starbenders\n\nJegyár: 9.000\,- Ft\n\n
 Jegyek: https://funcode.hu/hu/event/3637-starbenders
ATTACH;FMTTYPE=image/jpeg:https://storage.googleapis.com/femforgacs-wp/202
 6/02/b38d4431-0010.jpg
CATEGORIES:Klubkoncert
LOCATION:Dürer Kert\, Öböl utca 1. (XI. ker.)\, Budapest\, Magyarország
GEO:47.45976;19.057503
X-APPLE-STRUCTURED-LOCATION;VALUE=URI;X-ADDRESS=Öböl utca 1. (XI. ker.)\,
  Budapest\, Magyarország;X-APPLE-RADIUS=100;X-TITLE=Dürer Kert:geo:47.45
 976,19.057503
END:VEVENT
BEGIN:VTIMEZONE
TZID:Europe/Budapest
X-LIC-LOCATION:Europe/Budapest
BEGIN:DAYLIGHT
DTSTART:20260329T030000
TZOFFSETFROM:+0100
TZOFFSETTO:+0200
TZNAME:CEST
END:DAYLIGHT
END:VTIMEZONE
END:VCALENDAR