BEGIN:VCALENDAR
VERSION:2.0
PRODID:-//wp-events-plugin.com//6.6.4.4//EN
TZID:Europe/Budapest
X-WR-TIMEZONE:Europe/Budapest
BEGIN:VEVENT
UID:15857@femforgacs.hu
DTSTART;TZID=Europe/Budapest:20260618T190000
DTEND;TZID=Europe/Budapest:20260618T190000
DTSTAMP:20250929T091138Z
URL:https://femforgacs.hu/events/sting-3-0/
SUMMARY:Sting 3.0
DESCRIPTION:A Live Nation Magyarország bemutatja: Sting 3.0\n2026. június
  18.\, csütörtök\nBudapest\, MVM Dome\nFellép: Sting\n\nJegyár: 26.10
 0\,- Ft\n\nJegyek: https://funcode.hu/hu/event/2680-sting-30-tour
ATTACH;FMTTYPE=image/jpeg:https://storage.googleapis.com/femforgacs-wp/202
 5/09/c62a3d6a-0010.jpg
CATEGORIES:Arénakoncert
LOCATION:MVM Dome\, Üllői út 131\, Budapest\, Magyarország
X-APPLE-STRUCTURED-LOCATION;VALUE=URI;X-ADDRESS=Üllői út 131\, Budapest\
 , Magyarország;X-APPLE-RADIUS=100;X-TITLE=MVM Dome:geo:0,0
END:VEVENT
BEGIN:VTIMEZONE
TZID:Europe/Budapest
X-LIC-LOCATION:Europe/Budapest
BEGIN:DAYLIGHT
DTSTART:20260329T030000
TZOFFSETFROM:+0100
TZOFFSETTO:+0200
TZNAME:CEST
END:DAYLIGHT
END:VTIMEZONE
END:VCALENDAR