BEGIN:VCALENDAR
VERSION:2.0
PRODID:-//wp-events-plugin.com//6.6.4.4//EN
TZID:Europe/Budapest
X-WR-TIMEZONE:Europe/Budapest
BEGIN:VEVENT
UID:16053@femforgacs.hu
DTSTART;TZID=Europe/Budapest:20260705T190000
DTEND;TZID=Europe/Budapest:20260705T190000
DTSTAMP:20260219T061144Z
URL:https://femforgacs.hu/events/summer-solstice-tour/
SUMMARY:Summer Solstice Tour
DESCRIPTION:A Live Nation Magyarország bemutatja: Summer Solstice Tour\n20
 26. július 5.\, vasárnap\nBudapest\, Dürer Kert\nFellép: King 810\n\nJ
 egyár: 11.500\,- Ft\n\nJegyek: https://funcode.hu/hu/event/3648-king-810
ATTACH;FMTTYPE=image/jpeg:https://storage.googleapis.com/femforgacs-wp/202
 6/02/274d127e-0010.jpg
CATEGORIES:Klubkoncert
LOCATION:Dürer Kert\, Öböl utca 1. (XI. ker.)\, Budapest\, Magyarország
GEO:47.45976;19.057503
X-APPLE-STRUCTURED-LOCATION;VALUE=URI;X-ADDRESS=Öböl utca 1. (XI. ker.)\,
  Budapest\, Magyarország;X-APPLE-RADIUS=100;X-TITLE=Dürer Kert:geo:47.45
 976,19.057503
END:VEVENT
BEGIN:VTIMEZONE
TZID:Europe/Budapest
X-LIC-LOCATION:Europe/Budapest
BEGIN:DAYLIGHT
DTSTART:20260329T030000
TZOFFSETFROM:+0100
TZOFFSETTO:+0200
TZNAME:CEST
END:DAYLIGHT
END:VTIMEZONE
END:VCALENDAR