BEGIN:VCALENDAR
VERSION:2.0
PRODID:-//wp-events-plugin.com//6.6.4.4//EN
TZID:Europe/Budapest
X-WR-TIMEZONE:Europe/Budapest
BEGIN:VEVENT
UID:15993@femforgacs.hu
DTSTART;TZID=Europe/Budapest:20260624T190000
DTEND;TZID=Europe/Budapest:20260624T190000
DTSTAMP:20260326T055605Z
URL:https://femforgacs.hu/events/symbolic-healing-european-tour-2026/
SUMMARY:Symbolic Healing European Tour 2026
DESCRIPTION:Az Emptiness Booking és a Dürer Kert bemutatja: Symbolic Heal
 ing European Tour 2026\n2026. június 24.\, szerda\nBudapest\, Dürer Kert
 \nFellépők: Death to All\, Cryptic Shift\, Neuropsy\n\nJegyár: 10.990\,
 - Ft / 11.990\,- Ft / 12.990\,- Ft\n\nJegyek: https://www.tixa.hu/deathtoa
 ll-symbolic-durer
ATTACH;FMTTYPE=image/jpeg:https://storage.googleapis.com/femforgacs-wp/202
 6/01/f09a9925-0010.jpg
CATEGORIES:Klubkoncert
LOCATION:Dürer Kert\, Öböl utca 1. (XI. ker.)\, Budapest\, Magyarország
GEO:47.45976;19.057503
X-APPLE-STRUCTURED-LOCATION;VALUE=URI;X-ADDRESS=Öböl utca 1. (XI. ker.)\,
  Budapest\, Magyarország;X-APPLE-RADIUS=100;X-TITLE=Dürer Kert:geo:47.45
 976,19.057503
END:VEVENT
BEGIN:VTIMEZONE
TZID:Europe/Budapest
X-LIC-LOCATION:Europe/Budapest
BEGIN:DAYLIGHT
DTSTART:20260329T030000
TZOFFSETFROM:+0100
TZOFFSETTO:+0200
TZNAME:CEST
END:DAYLIGHT
END:VTIMEZONE
END:VCALENDAR