BEGIN:VCALENDAR
VERSION:2.0
PRODID:-//wp-events-plugin.com//6.6.4.4//EN
TZID:Europe/Budapest
X-WR-TIMEZONE:Europe/Budapest
BEGIN:VEVENT
UID:16022@femforgacs.hu
DTSTART;TZID=Europe/Budapest:20260713T180000
DTEND;TZID=Europe/Budapest:20260713T180000
DTSTAMP:20260203T062755Z
URL:https://femforgacs.hu/events/texaphonic-2026-tour-europe/
SUMMARY:Texaphonic 2026 Tour Europe
DESCRIPTION:A Live Nation Magyarország bemutatja: Texaphonic 2026 Tour Eur
 ope\n2026. július 13.\, hétfő\nBudapest\, Akvárium Klub\nFellép: Eric
  Johnson\n\nJegyár: 14.200\,- Ft\n\nJegyek: https://funcode.hu/hu/event/3
 552-eric-johnson
ATTACH;FMTTYPE=image/jpeg:https://storage.googleapis.com/femforgacs-wp/202
 6/02/3faa1055-0010.jpg
CATEGORIES:Klubkoncert
LOCATION:Akvárium Klub\, Erzsébet tér 12.\, Budapest\, 1051\, Magyarorsz
 ág
GEO:47.4984469;19.0542255
X-APPLE-STRUCTURED-LOCATION;VALUE=URI;X-ADDRESS=Erzsébet tér 12.\, Budape
 st\, 1051\, Magyarország;X-APPLE-RADIUS=100;X-TITLE=Akvárium Klub:geo:47
 .4984469,19.0542255
END:VEVENT
BEGIN:VTIMEZONE
TZID:Europe/Budapest
X-LIC-LOCATION:Europe/Budapest
BEGIN:DAYLIGHT
DTSTART:20260329T030000
TZOFFSETFROM:+0100
TZOFFSETTO:+0200
TZNAME:CEST
END:DAYLIGHT
END:VTIMEZONE
END:VCALENDAR