BEGIN:VCALENDAR
VERSION:2.0
PRODID:-//wp-events-plugin.com//6.6.4.4//EN
TZID:Europe/Budapest
X-WR-TIMEZONE:Europe/Budapest
BEGIN:VEVENT
UID:16048@femforgacs.hu
DTSTART;TZID=Europe/Budapest:20260630T190000
DTEND;TZID=Europe/Budapest:20260630T190000
DTSTAMP:20260216T091857Z
URL:https://femforgacs.hu/events/the-light-of-europa-tour/
SUMMARY:The Light of Europa Tour
DESCRIPTION:Az Emptiness Booking és a Dürer Kert bemutatja: The Light of 
 Europa Tour\n2026. június 30.\, kedd\nBudapest\, Dürer Kert\nFellép: Ua
 da\n\nJegyár: 8.900\,- Ft / 9.900\,- Ft / 10.900\,- Ft\n\nJegyek: https:/
 /www.tixa.hu/uada-durer-2026
ATTACH;FMTTYPE=image/jpeg:https://storage.googleapis.com/femforgacs-wp/202
 6/02/c29fd0b4-0010.jpg
CATEGORIES:Klubkoncert
LOCATION:Dürer Kert\, Öböl utca 1. (XI. ker.)\, Budapest\, Magyarország
GEO:47.45976;19.057503
X-APPLE-STRUCTURED-LOCATION;VALUE=URI;X-ADDRESS=Öböl utca 1. (XI. ker.)\,
  Budapest\, Magyarország;X-APPLE-RADIUS=100;X-TITLE=Dürer Kert:geo:47.45
 976,19.057503
END:VEVENT
BEGIN:VTIMEZONE
TZID:Europe/Budapest
X-LIC-LOCATION:Europe/Budapest
BEGIN:DAYLIGHT
DTSTART:20260329T030000
TZOFFSETFROM:+0100
TZOFFSETTO:+0200
TZNAME:CEST
END:DAYLIGHT
END:VTIMEZONE
END:VCALENDAR