BEGIN:VCALENDAR
VERSION:2.0
PRODID:-//wp-events-plugin.com//6.6.4.4//EN
TZID:Europe/Budapest
X-WR-TIMEZONE:Europe/Budapest
BEGIN:VEVENT
UID:15585@femforgacs.hu
DTSTART;TZID=Europe/Budapest:20251031T190000
DTEND;TZID=Europe/Budapest:20251031T190000
DTSTAMP:20241014T101432Z
URL:https://femforgacs.hu/events/the-offspring-simple-plan/
SUMMARY:The Offspring\, Simple Plan
DESCRIPTION:A Live Nation Magyarország bemutatja:\n2025. október 31.\, p
 éntek\nBudapest\, MVM Dome\nFellépők: The Offspring\, Simple Plan\n\nJe
 gyár: 19.200\,- Ft - 27.200\,- Ft
ATTACH;FMTTYPE=image/jpeg:https://storage.googleapis.com/femforgacs-wp/202
 4/10/ed373a40-0010.jpg
CATEGORIES:Arénakoncert
LOCATION:MVM Dome\, Üllői út 131\, Budapest\, Magyarország
X-APPLE-STRUCTURED-LOCATION;VALUE=URI;X-ADDRESS=Üllői út 131\, Budapest\
 , Magyarország;X-APPLE-RADIUS=100;X-TITLE=MVM Dome:geo:0,0
END:VEVENT
BEGIN:VTIMEZONE
TZID:Europe/Budapest
X-LIC-LOCATION:Europe/Budapest
BEGIN:STANDARD
DTSTART:20251026T020000
TZOFFSETFROM:+0200
TZOFFSETTO:+0100
TZNAME:CET
END:STANDARD
END:VTIMEZONE
END:VCALENDAR