BEGIN:VCALENDAR
VERSION:2.0
PRODID:-//wp-events-plugin.com//6.6.4.4//EN
TZID:Europe/Budapest
X-WR-TIMEZONE:Europe/Budapest
BEGIN:VEVENT
UID:16054@femforgacs.hu
DTSTART;TZID=Europe/Budapest:20260521T180000
DTEND;TZID=Europe/Budapest:20260521T180000
DTSTAMP:20260219T095034Z
URL:https://femforgacs.hu/events/the-slam-domination-tour-2026/
SUMMARY:The Slam Domination Tour 2026
DESCRIPTION:The Slam Domination Tour 2026\n2026. május 21.\, csütörtök\
 nBudapest\, Dürer Kert\nFellépők: Waking the Cadaver\, 9 Dead\, Stillbi
 rth\, Paediatrician\n\nJegyár: 8.000\,- Ft / 10.000\,- Ft\n\nJegyek: http
 s://www.tixa.hu/waking-the-cadaver-2026
ATTACH;FMTTYPE=image/jpeg:https://storage.googleapis.com/femforgacs-wp/202
 6/02/efb8a389-0010.jpg
CATEGORIES:Klubkoncert
LOCATION:Dürer Kert\, Öböl utca 1. (XI. ker.)\, Budapest\, Magyarország
GEO:47.45976;19.057503
X-APPLE-STRUCTURED-LOCATION;VALUE=URI;X-ADDRESS=Öböl utca 1. (XI. ker.)\,
  Budapest\, Magyarország;X-APPLE-RADIUS=100;X-TITLE=Dürer Kert:geo:47.45
 976,19.057503
END:VEVENT
BEGIN:VTIMEZONE
TZID:Europe/Budapest
X-LIC-LOCATION:Europe/Budapest
BEGIN:DAYLIGHT
DTSTART:20260329T030000
TZOFFSETFROM:+0100
TZOFFSETTO:+0200
TZNAME:CEST
END:DAYLIGHT
END:VTIMEZONE
END:VCALENDAR