BEGIN:VCALENDAR
VERSION:2.0
PRODID:-//wp-events-plugin.com//6.6.4.4//EN
TZID:Europe/Budapest
X-WR-TIMEZONE:Europe/Budapest
BEGIN:VEVENT
UID:15915@femforgacs.hu
DTSTART;TZID=Europe/Budapest:20260428T190000
DTEND;TZID=Europe/Budapest:20260428T190000
DTSTAMP:20260326T090309Z
URL:https://femforgacs.hu/events/the-war-that-never-ends/
SUMMARY:The War That Never Ends
DESCRIPTION:A Live Nation Magyarország bemutatja: The War That Never Ends\
 n2026. április 28.\, kedd\nBudapest\, Analog Music Hall\nFellépők: 1914
 \, Katla\, Grimming\n\nJegyár: 10.000\,- Ft\n\nJegyek: https://funcode.hu
 /hu/event/3093-1914
ATTACH;FMTTYPE=image/jpeg:https://storage.googleapis.com/femforgacs-wp/202
 5/11/5fcccf38-0010.jpg
CATEGORIES:Klubkoncert
LOCATION:Analog Music Hall\, XI. ker.\, Kondorfa u. 8.\, Budapest\, Magyaro
 rszág
X-APPLE-STRUCTURED-LOCATION;VALUE=URI;X-ADDRESS=XI. ker.\, Kondorfa u. 8.\,
  Budapest\, Magyarország;X-APPLE-RADIUS=100;X-TITLE=Analog Music Hall:geo
 :0,0
END:VEVENT
BEGIN:VTIMEZONE
TZID:Europe/Budapest
X-LIC-LOCATION:Europe/Budapest
BEGIN:DAYLIGHT
DTSTART:20260329T030000
TZOFFSETFROM:+0100
TZOFFSETTO:+0200
TZNAME:CEST
END:DAYLIGHT
END:VTIMEZONE
END:VCALENDAR