BEGIN:VCALENDAR
VERSION:2.0
PRODID:-//wp-events-plugin.com//6.6.4.4//EN
TZID:Europe/Budapest
X-WR-TIMEZONE:Europe/Budapest
BEGIN:VEVENT
UID:16024@femforgacs.hu
DTSTART;TZID=Europe/Budapest:20260714T190000
DTEND;TZID=Europe/Budapest:20260714T190000
DTSTAMP:20260204T100951Z
URL:https://femforgacs.hu/events/voivod/
SUMMARY:Voivod
DESCRIPTION:A Live Nation Magyarország bemutatja:\n2026. július 14.\, ked
 d\nBudapest\, Analog Music Hall\nFellép: Voivod\n\nJegyár: 14.000\,- Ft\
 n\nJegyek: https://funcode.hu/hu/event/3339-voivod
ATTACH;FMTTYPE=image/jpeg:https://storage.googleapis.com/femforgacs-wp/202
 6/02/4e02e8ce-0010.jpg
CATEGORIES:Klubkoncert
LOCATION:Analog Music Hall\, XI. ker.\, Kondorfa u. 8.\, Budapest\, Magyaro
 rszág
X-APPLE-STRUCTURED-LOCATION;VALUE=URI;X-ADDRESS=XI. ker.\, Kondorfa u. 8.\,
  Budapest\, Magyarország;X-APPLE-RADIUS=100;X-TITLE=Analog Music Hall:geo
 :0,0
END:VEVENT
BEGIN:VTIMEZONE
TZID:Europe/Budapest
X-LIC-LOCATION:Europe/Budapest
BEGIN:DAYLIGHT
DTSTART:20260329T030000
TZOFFSETFROM:+0100
TZOFFSETTO:+0200
TZNAME:CEST
END:DAYLIGHT
END:VTIMEZONE
END:VCALENDAR